BEGIN:VCALENDAR
VERSION:2.0
PRODID:-//Ganbatte Convention - ECPv6.15.20//NONSGML v1.0//EN
CALSCALE:GREGORIAN
METHOD:PUBLISH
X-WR-CALNAME:Ganbatte Convention
X-ORIGINAL-URL:https://ganbatte.ca
X-WR-CALDESC:Events for Ganbatte Convention
REFRESH-INTERVAL;VALUE=DURATION:PT1H
X-Robots-Tag:noindex
X-PUBLISHED-TTL:PT1H
BEGIN:VTIMEZONE
TZID:America/New_York
BEGIN:DAYLIGHT
TZOFFSETFROM:-0500
TZOFFSETTO:-0400
TZNAME:EDT
DTSTART:20250309T070000
END:DAYLIGHT
BEGIN:STANDARD
TZOFFSETFROM:-0400
TZOFFSETTO:-0500
TZNAME:EST
DTSTART:20251102T060000
END:STANDARD
BEGIN:DAYLIGHT
TZOFFSETFROM:-0500
TZOFFSETTO:-0400
TZNAME:EDT
DTSTART:20260308T070000
END:DAYLIGHT
BEGIN:STANDARD
TZOFFSETFROM:-0400
TZOFFSETTO:-0500
TZNAME:EST
DTSTART:20261101T060000
END:STANDARD
BEGIN:DAYLIGHT
TZOFFSETFROM:-0500
TZOFFSETTO:-0400
TZNAME:EDT
DTSTART:20270314T070000
END:DAYLIGHT
BEGIN:STANDARD
TZOFFSETFROM:-0400
TZOFFSETTO:-0500
TZNAME:EST
DTSTART:20271107T060000
END:STANDARD
END:VTIMEZONE
BEGIN:VEVENT
DTSTART;TZID=America/New_York:20260424T100000
DTEND;TZID=America/New_York:20260424T140000
DTSTAMP:20260424T024311
CREATED:20250509T055936Z
LAST-MODIFIED:20260319T190154Z
UID:5170-1777024800-1777039200@ganbatte.ca
SUMMARY:Kawaii Market 2026 Pt.1
DESCRIPTION:Free to attend! the Kawaii Market Flea Market will be held at the Saskatoon Farmers Market on April 25th (10 AM – 2 PM)\, where fans sell second-hand cosplay\, figures\, props\, and convention finds flea-market or con swap style. \nApplication to join the flea market is here: https://forms.gle/fVDZKv62xT8FdRq1A
URL:https://ganbatte.ca/event/kawaii-market-2025/
LOCATION:Saskatoon Farmer’s Market\, 2600 Koyl Ave\, Saskatoon\, Saskatchewan\, S7L 5X9\, Canada
CATEGORIES:Markets
ATTACH;FMTTYPE=image/png:https://ganbatte.ca/wp-content/uploads/2026/03/Generic_Kawaii_Market_Banner.png
ORGANIZER;CN="Ganbatte Convention Inc.":MAILTO:info@ganbatte.ca
END:VEVENT
END:VCALENDAR